BEGIN:VCALENDAR
VERSION:2.0
PRODID:-//forEach() Loop Music - ECPv6.15.20//NONSGML v1.0//EN
CALSCALE:GREGORIAN
METHOD:PUBLISH
X-ORIGINAL-URL:https://foreachloopmusic.com
X-WR-CALDESC:Events for forEach() Loop Music
REFRESH-INTERVAL;VALUE=DURATION:PT1H
X-Robots-Tag:noindex
X-PUBLISHED-TTL:PT1H
BEGIN:VTIMEZONE
TZID:UTC
BEGIN:STANDARD
TZOFFSETFROM:+0000
TZOFFSETTO:+0000
TZNAME:UTC
DTSTART:20220101T000000
END:STANDARD
END:VTIMEZONE
BEGIN:VEVENT
DTSTART;TZID=UTC:20230528T200000
DTEND;TZID=UTC:20230528T234500
DTSTAMP:20260423T171239
CREATED:20230414T213353Z
LAST-MODIFIED:20230731T184834Z
UID:99-1685304000-1685317500@foreachloopmusic.com
SUMMARY:Rubber Gloves Show with forEach() Loop\, Destroysion\, Bluesdream\, and The Hazy Chambers!
DESCRIPTION:$10 cover – Doors 7pm/Show 8pm \n\nBLuesdream – 10:15\nforeEach() Loop – 9:30\n\nDestroysion – 8:45\n\nThe Hazy Chambers 8:00
URL:https://foreachloopmusic.com/event/rubber-gloves-show/
LOCATION:Rubber Gloves\, 411 E Sycamore St\, Denton\, TX\, 76205\, United States
ATTACH;FMTTYPE=image/png:https://foreachloopmusic.com/wp-content/uploads/2023/04/A3B14A99-CE11-4F25-98FC-50DE44F2F7EC.png
END:VEVENT
END:VCALENDAR