BEGIN:VCALENDAR
VERSION:2.0
PRODID:-//forEach() Loop Music - ECPv6.15.20//NONSGML v1.0//EN
CALSCALE:GREGORIAN
METHOD:PUBLISH
X-ORIGINAL-URL:https://foreachloopmusic.com
X-WR-CALDESC:Events for forEach() Loop Music
REFRESH-INTERVAL;VALUE=DURATION:PT1H
X-Robots-Tag:noindex
X-PUBLISHED-TTL:PT1H
BEGIN:VTIMEZONE
TZID:UTC
BEGIN:STANDARD
TZOFFSETFROM:+0000
TZOFFSETTO:+0000
TZNAME:UTC
DTSTART:20220101T000000
END:STANDARD
END:VTIMEZONE
BEGIN:VEVENT
DTSTART;TZID=UTC:20230831T190000
DTEND;TZID=UTC:20230831T230000
DTSTAMP:20260423T102208
CREATED:20230713T184619Z
LAST-MODIFIED:20230731T184308Z
UID:130-1693508400-1693522800@foreachloopmusic.com
SUMMARY:Concert at Andy's Bar
DESCRIPTION:
URL:https://foreachloopmusic.com/event/concert-at-andys-bar/
LOCATION:Andy’s Bar\, 122 N. Locust St.\, Denton\, TX\, 76201\, United States
ATTACH;FMTTYPE=image/png:https://foreachloopmusic.com/wp-content/uploads/2023/07/364191236_2361762323995890_8526288040720269939_n.png
END:VEVENT
END:VCALENDAR