BEGIN:VCALENDAR
VERSION:2.0
PRODID:-//forEach() Loop Music - ECPv6.15.20//NONSGML v1.0//EN
CALSCALE:GREGORIAN
METHOD:PUBLISH
X-WR-CALNAME:forEach() Loop Music
X-ORIGINAL-URL:https://foreachloopmusic.com
X-WR-CALDESC:Events for forEach() Loop Music
REFRESH-INTERVAL;VALUE=DURATION:PT1H
X-Robots-Tag:noindex
X-PUBLISHED-TTL:PT1H
BEGIN:VTIMEZONE
TZID:UTC
BEGIN:STANDARD
TZOFFSETFROM:+0000
TZOFFSETTO:+0000
TZNAME:UTC
DTSTART:20220101T000000
END:STANDARD
END:VTIMEZONE
BEGIN:VEVENT
DTSTART;TZID=UTC:20231103T200000
DTEND;TZID=UTC:20231103T233000
DTSTAMP:20260423T052303
CREATED:20231025T200420Z
LAST-MODIFIED:20231025T200449Z
UID:306-1699041600-1699054200@foreachloopmusic.com
SUMMARY:The Deadhorse - San Angelo\, TX
DESCRIPTION:
URL:https://foreachloopmusic.com/event/the-deadhorse-san-angelo-tx/
LOCATION:The Deadhorse\, 210 S Chadbourne St\, San Angelo\, TX\, United States
END:VEVENT
BEGIN:VEVENT
DTSTART;TZID=UTC:20231110T200000
DTEND;TZID=UTC:20231110T230000
DTSTAMP:20260423T052303
CREATED:20231025T200301Z
LAST-MODIFIED:20231025T200301Z
UID:304-1699646400-1699657200@foreachloopmusic.com
SUMMARY:Andy's Bar
DESCRIPTION:
URL:https://foreachloopmusic.com/event/andys-bar/
LOCATION:Andy’s Bar\, 122 N. Locust St.\, Denton\, TX\, 76201\, United States
END:VEVENT
END:VCALENDAR